BEGIN:VCALENDAR
VERSION:2.0
PRODID:-//Freiwillige Feuerwehr Flörsbachtal - ECPv6.15.14//NONSGML v1.0//EN
CALSCALE:GREGORIAN
METHOD:PUBLISH
X-ORIGINAL-URL:https://feuerwehr-floersbachtal.de
X-WR-CALDESC:Veranstaltungen für Freiwillige Feuerwehr Flörsbachtal
REFRESH-INTERVAL;VALUE=DURATION:PT1H
X-Robots-Tag:noindex
X-PUBLISHED-TTL:PT1H
BEGIN:VTIMEZONE
TZID:Europe/Berlin
BEGIN:DAYLIGHT
TZOFFSETFROM:+0100
TZOFFSETTO:+0200
TZNAME:CEST
DTSTART:20230326T010000
END:DAYLIGHT
BEGIN:STANDARD
TZOFFSETFROM:+0200
TZOFFSETTO:+0100
TZNAME:CET
DTSTART:20231029T010000
END:STANDARD
BEGIN:DAYLIGHT
TZOFFSETFROM:+0100
TZOFFSETTO:+0200
TZNAME:CEST
DTSTART:20240331T010000
END:DAYLIGHT
BEGIN:STANDARD
TZOFFSETFROM:+0200
TZOFFSETTO:+0100
TZNAME:CET
DTSTART:20241027T010000
END:STANDARD
BEGIN:DAYLIGHT
TZOFFSETFROM:+0100
TZOFFSETTO:+0200
TZNAME:CEST
DTSTART:20250330T010000
END:DAYLIGHT
BEGIN:STANDARD
TZOFFSETFROM:+0200
TZOFFSETTO:+0100
TZNAME:CET
DTSTART:20251026T010000
END:STANDARD
END:VTIMEZONE
BEGIN:VEVENT
DTSTART;TZID=Europe/Berlin:20240807T193000
DTEND;TZID=Europe/Berlin:20240807T210000
DTSTAMP:20260419T221003
CREATED:20240628T120647Z
LAST-MODIFIED:20240628T120647Z
UID:471-1723059000-1723064400@feuerwehr-floersbachtal.de
SUMMARY:Wehr Flörsbach Schachtrettung
DESCRIPTION:
URL:https://feuerwehr-floersbachtal.de/event/wehr-floersbach-schachtrettung/
LOCATION:Feuerwehrhaus Flörsbach\, Orber Straße 39B\, Flörsbachtal\, Hessen\, 63639\, Deutschland
CATEGORIES:Feuerwehr Flörsbachtal,Wehr Flörsbach
END:VEVENT
BEGIN:VEVENT
DTSTART;TZID=Europe/Berlin:20240809T193000
DTEND;TZID=Europe/Berlin:20240809T210000
DTSTAMP:20260419T221003
CREATED:20240628T114819Z
LAST-MODIFIED:20240628T114819Z
UID:416-1723231800-1723237200@feuerwehr-floersbachtal.de
SUMMARY:Wehr Lohrhaupten TH -Verkehrsunfall
DESCRIPTION:
URL:https://feuerwehr-floersbachtal.de/event/wehr-lohrhaupten-th-verkehrsunfall/
LOCATION:Feuerwehrhaus Lohrhaupten\, Hauptstraße 14\, Flörsbachtal\, Hessen\, 63639\, Deutschland
CATEGORIES:Feuerwehr Flörsbachtal,Wehr Lohrhaupten
END:VEVENT
BEGIN:VEVENT
DTSTART;TZID=Europe/Berlin:20240814T193000
DTEND;TZID=Europe/Berlin:20240814T210000
DTSTAMP:20260419T221003
CREATED:20240628T114859Z
LAST-MODIFIED:20240628T114859Z
UID:418-1723663800-1723669200@feuerwehr-floersbachtal.de
SUMMARY:Wehr Lohrhaupten TH-Verkehrsunfall
DESCRIPTION:
URL:https://feuerwehr-floersbachtal.de/event/wehr-lohrhaupten-th-verkehrsunfall-2/
LOCATION:Feuerwehrhaus Lohrhaupten\, Hauptstraße 14\, Flörsbachtal\, Hessen\, 63639\, Deutschland
CATEGORIES:Feuerwehr Flörsbachtal,Wehr Lohrhaupten
END:VEVENT
BEGIN:VEVENT
DTSTART;TZID=Europe/Berlin:20240823T193000
DTEND;TZID=Europe/Berlin:20240823T210000
DTSTAMP:20260419T221003
CREATED:20240628T114937Z
LAST-MODIFIED:20240628T114937Z
UID:420-1724441400-1724446800@feuerwehr-floersbachtal.de
SUMMARY:Wehr Lohrhaupten Aufbau Weinfest
DESCRIPTION:
URL:https://feuerwehr-floersbachtal.de/event/wehr-lohrhaupten-aufbau-weinfest/
LOCATION:Feuerwehrhaus Lohrhaupten\, Hauptstraße 14\, Flörsbachtal\, Hessen\, 63639\, Deutschland
CATEGORIES:Feuerwehr Flörsbachtal,Wehr Lohrhaupten
END:VEVENT
BEGIN:VEVENT
DTSTART;TZID=Europe/Berlin:20240824T080000
DTEND;TZID=Europe/Berlin:20240825T170000
DTSTAMP:20260419T221003
CREATED:20240628T120725Z
LAST-MODIFIED:20240628T120725Z
UID:473-1724486400-1724605200@feuerwehr-floersbachtal.de
SUMMARY:Wehr Flörsbach 130 Jahre FF Lohrhaupten + Weinfest
DESCRIPTION:
URL:https://feuerwehr-floersbachtal.de/event/wehr-floersbach-130-jahre-ff-lohrhaupten-weinfest/
LOCATION:Feuerwehrhaus Flörsbach\, Orber Straße 39B\, Flörsbachtal\, Hessen\, 63639\, Deutschland
CATEGORIES:Feuerwehr Flörsbachtal,Wehr Flörsbach
END:VEVENT
BEGIN:VEVENT
DTSTART;TZID=Europe/Berlin:20240824T100000
DTEND;TZID=Europe/Berlin:20240825T000000
DTSTAMP:20260419T221003
CREATED:20240628T115024Z
LAST-MODIFIED:20240628T115024Z
UID:422-1724493600-1724544000@feuerwehr-floersbachtal.de
SUMMARY:Wehr Lohrhaupten Weinfest
DESCRIPTION:
URL:https://feuerwehr-floersbachtal.de/event/wehr-lohrhaupten-weinfest/
LOCATION:Feuerwehrhaus Lohrhaupten\, Hauptstraße 14\, Flörsbachtal\, Hessen\, 63639\, Deutschland
CATEGORIES:Feuerwehr Flörsbachtal,Wehr Lohrhaupten
END:VEVENT
BEGIN:VEVENT
DTSTART;TZID=Europe/Berlin:20240828T193000
DTEND;TZID=Europe/Berlin:20240828T210000
DTSTAMP:20260419T221003
CREATED:20240628T115056Z
LAST-MODIFIED:20240628T115056Z
UID:424-1724873400-1724878800@feuerwehr-floersbachtal.de
SUMMARY:Wehr Lohrhaupten FwDV 3
DESCRIPTION:
URL:https://feuerwehr-floersbachtal.de/event/wehr-lohrhaupten-fwdv-3/
LOCATION:Feuerwehrhaus Lohrhaupten\, Hauptstraße 14\, Flörsbachtal\, Hessen\, 63639\, Deutschland
CATEGORIES:Feuerwehr Flörsbachtal,Wehr Lohrhaupten
END:VEVENT
BEGIN:VEVENT
DTSTART;TZID=Europe/Berlin:20240830T190000
DTEND;TZID=Europe/Berlin:20240830T210000
DTSTAMP:20260419T221003
CREATED:20240628T120756Z
LAST-MODIFIED:20240628T120756Z
UID:475-1725044400-1725051600@feuerwehr-floersbachtal.de
SUMMARY:Wehr Flörsbach FwDV3
DESCRIPTION:
URL:https://feuerwehr-floersbachtal.de/event/wehr-floersbach-fwdv3/
LOCATION:Feuerwehrhaus Flörsbach\, Orber Straße 39B\, Flörsbachtal\, Hessen\, 63639\, Deutschland
CATEGORIES:Feuerwehr Flörsbachtal,Wehr Flörsbach
END:VEVENT
BEGIN:VEVENT
DTSTART;TZID=Europe/Berlin:20240830T190000
DTEND;TZID=Europe/Berlin:20240830T210000
DTSTAMP:20260419T221003
CREATED:20240827T105226Z
LAST-MODIFIED:20240827T105550Z
UID:551-1725044400-1725051600@feuerwehr-floersbachtal.de
SUMMARY:Wehr Kempfenbrunn-Mosborn Übung Praxis
DESCRIPTION:
URL:https://feuerwehr-floersbachtal.de/event/wehr-kempfenbrunn-mosborn-uebung-praxis-5/
LOCATION:Feuerwehrhaus Kempfenbrunn\, Grundweg 9\, Flörsbachtal\, Hessen\, 63639\, Deutschland
CATEGORIES:Feuerwehr Flörsbachtal,Wehr Kempfenbrunn-Mosborn
END:VEVENT
END:VCALENDAR