BEGIN:VCALENDAR
VERSION:2.0
PRODID:-//Freiwillige Feuerwehr Flörsbachtal - ECPv6.15.14//NONSGML v1.0//EN
CALSCALE:GREGORIAN
METHOD:PUBLISH
X-ORIGINAL-URL:https://feuerwehr-floersbachtal.de
X-WR-CALDESC:Veranstaltungen für Freiwillige Feuerwehr Flörsbachtal
REFRESH-INTERVAL;VALUE=DURATION:PT1H
X-Robots-Tag:noindex
X-PUBLISHED-TTL:PT1H
BEGIN:VTIMEZONE
TZID:Europe/Berlin
BEGIN:DAYLIGHT
TZOFFSETFROM:+0100
TZOFFSETTO:+0200
TZNAME:CEST
DTSTART:20230326T010000
END:DAYLIGHT
BEGIN:STANDARD
TZOFFSETFROM:+0200
TZOFFSETTO:+0100
TZNAME:CET
DTSTART:20231029T010000
END:STANDARD
BEGIN:DAYLIGHT
TZOFFSETFROM:+0100
TZOFFSETTO:+0200
TZNAME:CEST
DTSTART:20240331T010000
END:DAYLIGHT
BEGIN:STANDARD
TZOFFSETFROM:+0200
TZOFFSETTO:+0100
TZNAME:CET
DTSTART:20241027T010000
END:STANDARD
BEGIN:DAYLIGHT
TZOFFSETFROM:+0100
TZOFFSETTO:+0200
TZNAME:CEST
DTSTART:20250330T010000
END:DAYLIGHT
BEGIN:STANDARD
TZOFFSETFROM:+0200
TZOFFSETTO:+0100
TZNAME:CET
DTSTART:20251026T010000
END:STANDARD
END:VTIMEZONE
BEGIN:VEVENT
DTSTART;TZID=Europe/Berlin:20240703T193000
DTEND;TZID=Europe/Berlin:20240703T210000
DTSTAMP:20260420T000409
CREATED:20240628T114348Z
LAST-MODIFIED:20240628T114348Z
UID:410-1720035000-1720040400@feuerwehr-floersbachtal.de
SUMMARY:Wehr Lohrhaupten Gerätekunde
DESCRIPTION:
URL:https://feuerwehr-floersbachtal.de/event/wehr-lohrhaupten-geraetekunde/
LOCATION:Feuerwehrhaus Lohrhaupten\, Hauptstraße 14\, Flörsbachtal\, Hessen\, 63639\, Deutschland
CATEGORIES:Feuerwehr Flörsbachtal,Wehr Lohrhaupten
END:VEVENT
BEGIN:VEVENT
DTSTART;TZID=Europe/Berlin:20240709T180000
DTEND;TZID=Europe/Berlin:20240709T200000
DTSTAMP:20260420T000409
CREATED:20240311T142837Z
LAST-MODIFIED:20240311T142837Z
UID:284-1720548000-1720555200@feuerwehr-floersbachtal.de
SUMMARY:Jugendfeuerwehr Übung/Unterricht
DESCRIPTION:
URL:https://feuerwehr-floersbachtal.de/event/jugendfeuerwehr-uebung-unterricht-6/
LOCATION:Feuerwehrhaus Kempfenbrunn\, Grundweg 9\, Flörsbachtal\, Hessen\, 63639\, Deutschland
CATEGORIES:Jugendfeuerwehr
END:VEVENT
BEGIN:VEVENT
DTSTART;TZID=Europe/Berlin:20240712T193000
DTEND;TZID=Europe/Berlin:20240712T210000
DTSTAMP:20260420T000409
CREATED:20240628T114439Z
LAST-MODIFIED:20240628T114439Z
UID:412-1720812600-1720818000@feuerwehr-floersbachtal.de
SUMMARY:Wehr Lohrhaupten Einsatzübung
DESCRIPTION:
URL:https://feuerwehr-floersbachtal.de/event/wehr-lohrhaupten-einsatzuebung-2/
LOCATION:Feuerwehrhaus Lohrhaupten\, Hauptstraße 14\, Flörsbachtal\, Hessen\, 63639\, Deutschland
CATEGORIES:Feuerwehr Flörsbachtal,Wehr Lohrhaupten
END:VEVENT
BEGIN:VEVENT
DTSTART;TZID=Europe/Berlin:20240713T080000
DTEND;TZID=Europe/Berlin:20240714T170000
DTSTAMP:20260420T000409
CREATED:20240628T120513Z
LAST-MODIFIED:20240628T120513Z
UID:465-1720857600-1720976400@feuerwehr-floersbachtal.de
SUMMARY:Wehr Flörsbach 140 Jahre FFW Bieber
DESCRIPTION:
URL:https://feuerwehr-floersbachtal.de/event/wehr-floersbach-140-jahre-ffw-bieber/
LOCATION:Feuerwehrhaus Flörsbach\, Orber Straße 39B\, Flörsbachtal\, Hessen\, 63639\, Deutschland
CATEGORIES:Feuerwehr Flörsbachtal,Wehr Flörsbach
END:VEVENT
BEGIN:VEVENT
DTSTART;TZID=Europe/Berlin:20240717T190000
DTEND;TZID=Europe/Berlin:20240717T210000
DTSTAMP:20260420T000409
CREATED:20240628T120543Z
LAST-MODIFIED:20240628T120543Z
UID:467-1721242800-1721250000@feuerwehr-floersbachtal.de
SUMMARY:Wehr Flörsbach Waldbrand
DESCRIPTION:
URL:https://feuerwehr-floersbachtal.de/event/wehr-floersbach-waldbrand/
LOCATION:Feuerwehrhaus Flörsbach\, Orber Straße 39B\, Flörsbachtal\, Hessen\, 63639\, Deutschland
CATEGORIES:Feuerwehr Flörsbachtal,Wehr Flörsbach
END:VEVENT
BEGIN:VEVENT
DTSTART;TZID=Europe/Berlin:20240717T193000
DTEND;TZID=Europe/Berlin:20240717T210000
DTSTAMP:20260420T000409
CREATED:20240628T114744Z
LAST-MODIFIED:20240628T114744Z
UID:414-1721244600-1721250000@feuerwehr-floersbachtal.de
SUMMARY:Wehr Lohrhaupten Vegetationsbrand
DESCRIPTION:
URL:https://feuerwehr-floersbachtal.de/event/wehr-lohrhaupten-vegetationsbrand/
LOCATION:Feuerwehrhaus Lohrhaupten\, Hauptstraße 14\, Flörsbachtal\, Hessen\, 63639\, Deutschland
CATEGORIES:Feuerwehr Flörsbachtal,Wehr Lohrhaupten
END:VEVENT
BEGIN:VEVENT
DTSTART;TZID=Europe/Berlin:20240728T100000
DTEND;TZID=Europe/Berlin:20240728T150000
DTSTAMP:20260420T000409
CREATED:20240628T120618Z
LAST-MODIFIED:20240628T120618Z
UID:469-1722160800-1722178800@feuerwehr-floersbachtal.de
SUMMARY:Wehr Flörsbach Sommerfest Frammersbach
DESCRIPTION:
URL:https://feuerwehr-floersbachtal.de/event/wehr-floersbach-sommerfest-frammersbach/
LOCATION:Feuerwehrhaus Flörsbach\, Orber Straße 39B\, Flörsbachtal\, Hessen\, 63639\, Deutschland
CATEGORIES:Feuerwehr Flörsbachtal,Wehr Flörsbach
END:VEVENT
END:VCALENDAR