BEGIN:VCALENDAR
VERSION:2.0
PRODID:-//Freiwillige Feuerwehr Flörsbachtal - ECPv6.15.14//NONSGML v1.0//EN
CALSCALE:GREGORIAN
METHOD:PUBLISH
X-WR-CALNAME:Freiwillige Feuerwehr Flörsbachtal
X-ORIGINAL-URL:https://feuerwehr-floersbachtal.de
X-WR-CALDESC:Veranstaltungen für Freiwillige Feuerwehr Flörsbachtal
REFRESH-INTERVAL;VALUE=DURATION:PT1H
X-Robots-Tag:noindex
X-PUBLISHED-TTL:PT1H
BEGIN:VTIMEZONE
TZID:Europe/Berlin
BEGIN:DAYLIGHT
TZOFFSETFROM:+0100
TZOFFSETTO:+0200
TZNAME:CEST
DTSTART:20230326T010000
END:DAYLIGHT
BEGIN:STANDARD
TZOFFSETFROM:+0200
TZOFFSETTO:+0100
TZNAME:CET
DTSTART:20231029T010000
END:STANDARD
BEGIN:DAYLIGHT
TZOFFSETFROM:+0100
TZOFFSETTO:+0200
TZNAME:CEST
DTSTART:20240331T010000
END:DAYLIGHT
BEGIN:STANDARD
TZOFFSETFROM:+0200
TZOFFSETTO:+0100
TZNAME:CET
DTSTART:20241027T010000
END:STANDARD
BEGIN:DAYLIGHT
TZOFFSETFROM:+0100
TZOFFSETTO:+0200
TZNAME:CEST
DTSTART:20250330T010000
END:DAYLIGHT
BEGIN:STANDARD
TZOFFSETFROM:+0200
TZOFFSETTO:+0100
TZNAME:CET
DTSTART:20251026T010000
END:STANDARD
END:VTIMEZONE
BEGIN:VEVENT
DTSTART;TZID=Europe/Berlin:20240502T190000
DTEND;TZID=Europe/Berlin:20240502T210000
DTSTAMP:20260420T032549
CREATED:20240322T145701Z
LAST-MODIFIED:20240322T145715Z
UID:352-1714676400-1714683600@feuerwehr-floersbachtal.de
SUMMARY:Wehr Kempfenbrunn-Mosborn Übung Praxis
DESCRIPTION:
URL:https://feuerwehr-floersbachtal.de/event/wehr-kempfenbrunn-mosborn-uebung-praxis-3/
LOCATION:Feuerwehrhaus Mosborn\, Waldstraße 9\, Flörsbachtal\, Hessen\, 63639\, Deutschland
CATEGORIES:Wehr Kempfenbrunn-Mosborn
END:VEVENT
BEGIN:VEVENT
DTSTART;TZID=Europe/Berlin:20240503T193000
DTEND;TZID=Europe/Berlin:20240503T210000
DTSTAMP:20260420T032549
CREATED:20240311T143545Z
LAST-MODIFIED:20240311T143545Z
UID:294-1714764600-1714770000@feuerwehr-floersbachtal.de
SUMMARY:Wehr Lohrhaupten Leistungsübung Training
DESCRIPTION:
URL:https://feuerwehr-floersbachtal.de/event/wehr-lohrhaupten-leistungsuebung-training/
LOCATION:Feuerwehrhaus Lohrhaupten\, Hauptstraße 14\, Flörsbachtal\, Hessen\, 63639\, Deutschland
CATEGORIES:Wehr Lohrhaupten
END:VEVENT
BEGIN:VEVENT
DTSTART;TZID=Europe/Berlin:20240508T193000
DTEND;TZID=Europe/Berlin:20240508T210000
DTSTAMP:20260420T032549
CREATED:20240311T143618Z
LAST-MODIFIED:20240311T143618Z
UID:296-1715196600-1715202000@feuerwehr-floersbachtal.de
SUMMARY:Wehr Lohrhaupten Maschinisten Ausbildung
DESCRIPTION:
URL:https://feuerwehr-floersbachtal.de/event/wehr-lohrhaupten-maschinisten-ausbildung/
LOCATION:Feuerwehrhaus Lohrhaupten\, Hauptstraße 14\, Flörsbachtal\, Hessen\, 63639\, Deutschland
CATEGORIES:Wehr Lohrhaupten
END:VEVENT
BEGIN:VEVENT
DTSTART;TZID=Europe/Berlin:20240513T190000
DTEND;TZID=Europe/Berlin:20240513T210000
DTSTAMP:20260420T032549
CREATED:20240322T145846Z
LAST-MODIFIED:20240322T145846Z
UID:355-1715626800-1715634000@feuerwehr-floersbachtal.de
SUMMARY:Wehr Kempfenbrunn-Mosborn Übung Praxis
DESCRIPTION:
URL:https://feuerwehr-floersbachtal.de/event/wehr-kempfenbrunn-mosborn-uebung-praxis-4/
LOCATION:Feuerwehrhaus Kempfenbrunn\, Grundweg 9\, Flörsbachtal\, Hessen\, 63639\, Deutschland
CATEGORIES:Wehr Kempfenbrunn-Mosborn
END:VEVENT
BEGIN:VEVENT
DTSTART;TZID=Europe/Berlin:20240514T180000
DTEND;TZID=Europe/Berlin:20240514T200000
DTSTAMP:20260420T032549
CREATED:20240311T142505Z
LAST-MODIFIED:20240311T142505Z
UID:276-1715709600-1715716800@feuerwehr-floersbachtal.de
SUMMARY:Jugendfeuerwehr Übung/Unterricht
DESCRIPTION:
URL:https://feuerwehr-floersbachtal.de/event/jugendfeuerwehr-uebung-unterricht-3/
LOCATION:Feuerwehrhaus Flörsbach\, Orber Straße 39B\, Flörsbachtal\, Hessen\, 63639\, Deutschland
CATEGORIES:Jugendfeuerwehr
END:VEVENT
BEGIN:VEVENT
DTSTART;TZID=Europe/Berlin:20240517T193000
DTEND;TZID=Europe/Berlin:20240517T210000
DTSTAMP:20260420T032549
CREATED:20240311T143657Z
LAST-MODIFIED:20240311T143657Z
UID:298-1715974200-1715979600@feuerwehr-floersbachtal.de
SUMMARY:Wehr Lohrhaupten Leistungsübung Training
DESCRIPTION:
URL:https://feuerwehr-floersbachtal.de/event/wehr-lohrhaupten-leistungsuebung-training-2/
LOCATION:Feuerwehrhaus Lohrhaupten\, Hauptstraße 14\, Flörsbachtal\, Hessen\, 63639\, Deutschland
CATEGORIES:Wehr Lohrhaupten
END:VEVENT
BEGIN:VEVENT
DTSTART;TZID=Europe/Berlin:20240522T185000
DTEND;TZID=Europe/Berlin:20240522T210000
DTSTAMP:20260420T032549
CREATED:20240322T150002Z
LAST-MODIFIED:20240322T150002Z
UID:357-1716403800-1716411600@feuerwehr-floersbachtal.de
SUMMARY:Wehr Kempfenbrunn-Mosborn Übung mit Lohrhauptem
DESCRIPTION:
URL:https://feuerwehr-floersbachtal.de/event/wehr-kempfenbrunn-mosborn-uebung-mit-lohrhauptem/
LOCATION:Feuerwehrhaus Lohrhaupten\, Hauptstraße 14\, Flörsbachtal\, Hessen\, 63639\, Deutschland
CATEGORIES:Wehr Kempfenbrunn-Mosborn
END:VEVENT
BEGIN:VEVENT
DTSTART;TZID=Europe/Berlin:20240522T193000
DTEND;TZID=Europe/Berlin:20240522T210000
DTSTAMP:20260420T032549
CREATED:20240311T143750Z
LAST-MODIFIED:20240311T143750Z
UID:300-1716406200-1716411600@feuerwehr-floersbachtal.de
SUMMARY:Wehr Lohrhaupten Einsatzübung / Absturz
DESCRIPTION:
URL:https://feuerwehr-floersbachtal.de/event/wehr-lohrhaupten-einsatzuebung-absturz/
LOCATION:Feuerwehrhaus Lohrhaupten\, Hauptstraße 14\, Flörsbachtal\, Hessen\, 63639\, Deutschland
CATEGORIES:Wehr Lohrhaupten
END:VEVENT
BEGIN:VEVENT
DTSTART;VALUE=DATE:20240529
DTEND;VALUE=DATE:20240602
DTSTAMP:20260420T032549
CREATED:20240311T142641Z
LAST-MODIFIED:20240311T142641Z
UID:278-1716940800-1717286399@feuerwehr-floersbachtal.de
SUMMARY:Jugendfeuerwehr Kreisjugendfeurwehr Kreislager
DESCRIPTION:
URL:https://feuerwehr-floersbachtal.de/event/jugendfeuerwehr-kreisjugendfeurwehr-kreislager/
CATEGORIES:Jugendfeuerwehr
END:VEVENT
BEGIN:VEVENT
DTSTART;TZID=Europe/Berlin:20240529T193000
DTEND;TZID=Europe/Berlin:20240529T210000
DTSTAMP:20260420T032549
CREATED:20240311T143840Z
LAST-MODIFIED:20240311T143840Z
UID:302-1717011000-1717016400@feuerwehr-floersbachtal.de
SUMMARY:Wehr Lohrhaupten Leistungsübung Training
DESCRIPTION:
URL:https://feuerwehr-floersbachtal.de/event/wehr-lohrhaupten-leistungsuebung-training-3/
LOCATION:Feuerwehrhaus Lohrhaupten\, Hauptstraße 14\, Flörsbachtal\, Hessen\, 63639\, Deutschland
CATEGORIES:Wehr Lohrhaupten
END:VEVENT
END:VCALENDAR