BEGIN:VCALENDAR
VERSION:2.0
PRODID:-//Freiwillige Feuerwehr Flörsbachtal - ECPv6.15.14//NONSGML v1.0//EN
CALSCALE:GREGORIAN
METHOD:PUBLISH
X-WR-CALNAME:Freiwillige Feuerwehr Flörsbachtal
X-ORIGINAL-URL:https://feuerwehr-floersbachtal.de
X-WR-CALDESC:Veranstaltungen für Freiwillige Feuerwehr Flörsbachtal
REFRESH-INTERVAL;VALUE=DURATION:PT1H
X-Robots-Tag:noindex
X-PUBLISHED-TTL:PT1H
BEGIN:VTIMEZONE
TZID:Europe/Berlin
BEGIN:DAYLIGHT
TZOFFSETFROM:+0100
TZOFFSETTO:+0200
TZNAME:CEST
DTSTART:20230326T010000
END:DAYLIGHT
BEGIN:STANDARD
TZOFFSETFROM:+0200
TZOFFSETTO:+0100
TZNAME:CET
DTSTART:20231029T010000
END:STANDARD
BEGIN:DAYLIGHT
TZOFFSETFROM:+0100
TZOFFSETTO:+0200
TZNAME:CEST
DTSTART:20240331T010000
END:DAYLIGHT
BEGIN:STANDARD
TZOFFSETFROM:+0200
TZOFFSETTO:+0100
TZNAME:CET
DTSTART:20241027T010000
END:STANDARD
BEGIN:DAYLIGHT
TZOFFSETFROM:+0100
TZOFFSETTO:+0200
TZNAME:CEST
DTSTART:20250330T010000
END:DAYLIGHT
BEGIN:STANDARD
TZOFFSETFROM:+0200
TZOFFSETTO:+0100
TZNAME:CET
DTSTART:20251026T010000
END:STANDARD
END:VTIMEZONE
BEGIN:VEVENT
DTSTART;TZID=Europe/Berlin:20240302T190000
DTEND;TZID=Europe/Berlin:20240302T210000
DTSTAMP:20260420T071244
CREATED:20240117T164423Z
LAST-MODIFIED:20240311T144746Z
UID:234-1709406000-1709413200@feuerwehr-floersbachtal.de
SUMMARY:JHV- Aktive FBT
DESCRIPTION:
URL:https://feuerwehr-floersbachtal.de/event/jhv-aktive-fbt/
CATEGORIES:Wehr Flörsbach
END:VEVENT
BEGIN:VEVENT
DTSTART;TZID=Europe/Berlin:20240302T190000
DTEND;TZID=Europe/Berlin:20240302T210000
DTSTAMP:20260420T071244
CREATED:20240207T192132Z
LAST-MODIFIED:20240311T144746Z
UID:254-1709406000-1709413200@feuerwehr-floersbachtal.de
SUMMARY:FW Flörsbachtal Flörsbach Übung/Unterricht JHV- Aktive FBT Kempfenbrunn DGH
DESCRIPTION:
URL:https://feuerwehr-floersbachtal.de/event/fw-floersbachtal-floersbach-uebung-unterricht-jhv-aktive-fbt-kempfenbrunn-dgh/
CATEGORIES:Wehr Flörsbach
END:VEVENT
BEGIN:VEVENT
DTSTART;TZID=Europe/Berlin:20240306T190000
DTEND;TZID=Europe/Berlin:20240306T210000
DTSTAMP:20260420T071244
CREATED:20240207T192131Z
LAST-MODIFIED:20240311T144746Z
UID:253-1709751600-1709758800@feuerwehr-floersbachtal.de
SUMMARY:FW Flörsbachtal Flörsbach Übung/Unterricht Funkübung
DESCRIPTION:
URL:https://feuerwehr-floersbachtal.de/event/fw-floersbachtal-floersbach-uebung-unterricht-funkuebung/
CATEGORIES:Wehr Flörsbach
END:VEVENT
BEGIN:VEVENT
DTSTART;TZID=Europe/Berlin:20240315T080000
DTEND;TZID=Europe/Berlin:20240315T170000
DTSTAMP:20260420T071244
CREATED:20240311T143210Z
LAST-MODIFIED:20240311T143210Z
UID:286-1710489600-1710522000@feuerwehr-floersbachtal.de
SUMMARY:Wehr Lohrhaupten Jahreshauptversammlung
DESCRIPTION:
URL:https://feuerwehr-floersbachtal.de/event/wehr-lohrhaupten-jahreshauptversammlung/
LOCATION:Feuerwehrhaus Lohrhaupten\, Hauptstraße 14\, Flörsbachtal\, Hessen\, 63639\, Deutschland
CATEGORIES:Wehr Lohrhaupten
END:VEVENT
BEGIN:VEVENT
DTSTART;TZID=Europe/Berlin:20240316T190000
DTEND;TZID=Europe/Berlin:20240316T210000
DTSTAMP:20260420T071244
CREATED:20240117T164423Z
LAST-MODIFIED:20240311T144746Z
UID:235-1710615600-1710622800@feuerwehr-floersbachtal.de
SUMMARY:Kommersabend in Rossbach
DESCRIPTION:
URL:https://feuerwehr-floersbachtal.de/event/kommersabend-in-rossbach/
CATEGORIES:Wehr Flörsbach
END:VEVENT
BEGIN:VEVENT
DTSTART;TZID=Europe/Berlin:20240316T190000
DTEND;TZID=Europe/Berlin:20240316T210000
DTSTAMP:20260420T071244
CREATED:20240207T192131Z
LAST-MODIFIED:20240311T144746Z
UID:252-1710615600-1710622800@feuerwehr-floersbachtal.de
SUMMARY:FW Flörsbachtal Flörsbach Übung/Unterricht Kommersabend in Rossbach
DESCRIPTION:
URL:https://feuerwehr-floersbachtal.de/event/fw-floersbachtal-floersbach-uebung-unterricht-kommersabend-in-rossbach/
CATEGORIES:Wehr Flörsbach
END:VEVENT
BEGIN:VEVENT
DTSTART;TZID=Europe/Berlin:20240319T180000
DTEND;TZID=Europe/Berlin:20240319T200000
DTSTAMP:20260420T071244
CREATED:20240311T141919Z
LAST-MODIFIED:20240311T144810Z
UID:264-1710871200-1710878400@feuerwehr-floersbachtal.de
SUMMARY:Jungedfeuerwehr Jugendsammelwoche
DESCRIPTION:
URL:https://feuerwehr-floersbachtal.de/event/jungedfeuerwehr-jugendsammelwoche/
LOCATION:Feuerwehrhaus Lohrhaupten\, Hauptstraße 14\, Flörsbachtal\, Hessen\, 63639\, Deutschland
CATEGORIES:Jugendfeuerwehr
END:VEVENT
BEGIN:VEVENT
DTSTART;TZID=Europe/Berlin:20240323T070000
DTEND;TZID=Europe/Berlin:20240323T120000
DTSTAMP:20260420T071244
CREATED:20240322T145240Z
LAST-MODIFIED:20240322T150402Z
UID:344-1711177200-1711195200@feuerwehr-floersbachtal.de
SUMMARY:Wehr Kempfenbrunn-Mosborn Waldbrandzug
DESCRIPTION:
URL:https://feuerwehr-floersbachtal.de/event/wehr-kempfenbrunn-mosborn-waldbrandzug/
LOCATION:Feuerwehrhaus Hammersbach\, Zur Dammbrücke 7\,\, Hammersbach\, Hessen\, 63546\, Deutschland
CATEGORIES:Feuerwehr Flörsbachtal
END:VEVENT
BEGIN:VEVENT
DTSTART;TZID=Europe/Berlin:20240323T100000
DTEND;TZID=Europe/Berlin:20240323T130000
DTSTAMP:20260420T071244
CREATED:20240311T142121Z
LAST-MODIFIED:20240311T142121Z
UID:267-1711188000-1711198800@feuerwehr-floersbachtal.de
SUMMARY:Jugendfeuerwehr Jugendsammelwoche
DESCRIPTION:
URL:https://feuerwehr-floersbachtal.de/event/jugendfeuerwehr-jugendsammelwoche/
CATEGORIES:Jugendfeuerwehr
END:VEVENT
BEGIN:VEVENT
DTSTART;TZID=Europe/Berlin:20240323T190000
DTEND;TZID=Europe/Berlin:20240323T210000
DTSTAMP:20260420T071244
CREATED:20240207T192115Z
LAST-MODIFIED:20240311T144746Z
UID:251-1711220400-1711227600@feuerwehr-floersbachtal.de
SUMMARY:FW Flörsbachtal Flörsbach Übung/Unterricht JHV-Verein SKG-Halle
DESCRIPTION:
URL:https://feuerwehr-floersbachtal.de/event/fw-floersbachtal-floersbach-uebung-unterricht-jhv-verein-skg-halle/
CATEGORIES:Wehr Flörsbach
END:VEVENT
BEGIN:VEVENT
DTSTART;TZID=Europe/Berlin:20240328T193000
DTEND;TZID=Europe/Berlin:20240328T210000
DTSTAMP:20260420T071244
CREATED:20240311T143316Z
LAST-MODIFIED:20240311T143316Z
UID:288-1711654200-1711659600@feuerwehr-floersbachtal.de
SUMMARY:Wehr Lohrhaupten Atemschutzübung
DESCRIPTION:
URL:https://feuerwehr-floersbachtal.de/event/wehr-lohrhaupten-atemschutzuebung/
CATEGORIES:Wehr Lohrhaupten
END:VEVENT
END:VCALENDAR