BEGIN:VCALENDAR
VERSION:2.0
PRODID:-//Freiwillige Feuerwehr Flörsbachtal - ECPv6.15.14//NONSGML v1.0//EN
CALSCALE:GREGORIAN
METHOD:PUBLISH
X-WR-CALNAME:Freiwillige Feuerwehr Flörsbachtal
X-ORIGINAL-URL:https://feuerwehr-floersbachtal.de
X-WR-CALDESC:Veranstaltungen für Freiwillige Feuerwehr Flörsbachtal
REFRESH-INTERVAL;VALUE=DURATION:PT1H
X-Robots-Tag:noindex
X-PUBLISHED-TTL:PT1H
BEGIN:VTIMEZONE
TZID:Europe/Berlin
BEGIN:DAYLIGHT
TZOFFSETFROM:+0100
TZOFFSETTO:+0200
TZNAME:CEST
DTSTART:20230326T010000
END:DAYLIGHT
BEGIN:STANDARD
TZOFFSETFROM:+0200
TZOFFSETTO:+0100
TZNAME:CET
DTSTART:20231029T010000
END:STANDARD
BEGIN:DAYLIGHT
TZOFFSETFROM:+0100
TZOFFSETTO:+0200
TZNAME:CEST
DTSTART:20240331T010000
END:DAYLIGHT
BEGIN:STANDARD
TZOFFSETFROM:+0200
TZOFFSETTO:+0100
TZNAME:CET
DTSTART:20241027T010000
END:STANDARD
BEGIN:DAYLIGHT
TZOFFSETFROM:+0100
TZOFFSETTO:+0200
TZNAME:CEST
DTSTART:20250330T010000
END:DAYLIGHT
BEGIN:STANDARD
TZOFFSETFROM:+0200
TZOFFSETTO:+0100
TZNAME:CET
DTSTART:20251026T010000
END:STANDARD
END:VTIMEZONE
BEGIN:VEVENT
DTSTART;TZID=Europe/Berlin:20240209T190000
DTEND;TZID=Europe/Berlin:20240209T210000
DTSTAMP:20260420T091608
CREATED:20240207T192145Z
LAST-MODIFIED:20240311T144745Z
UID:258-1707505200-1707512400@feuerwehr-floersbachtal.de
SUMMARY:FW Flörsbachtal Flörsbach Übung/Unterricht Knoten und Stiche + Fahrzeugkunde
DESCRIPTION:
URL:https://feuerwehr-floersbachtal.de/event/fw-floersbachtal-floersbach-uebung-unterricht-knoten-und-stiche-fahrzeugkunde/
CATEGORIES:Wehr Flörsbach
END:VEVENT
BEGIN:VEVENT
DTSTART;TZID=Europe/Berlin:20240217T190000
DTEND;TZID=Europe/Berlin:20240217T210000
DTSTAMP:20260420T091608
CREATED:20240117T164422Z
LAST-MODIFIED:20240311T144745Z
UID:233-1708196400-1708203600@feuerwehr-floersbachtal.de
SUMMARY:JHV- Aktive im Feuerwehrhaus
DESCRIPTION:
URL:https://feuerwehr-floersbachtal.de/event/jhv-aktive-im-feuerwehrhaus/
CATEGORIES:Wehr Flörsbach
END:VEVENT
BEGIN:VEVENT
DTSTART;TZID=Europe/Berlin:20240217T190000
DTEND;TZID=Europe/Berlin:20240217T210000
DTSTAMP:20260420T091608
CREATED:20240207T192145Z
LAST-MODIFIED:20240311T144745Z
UID:257-1708196400-1708203600@feuerwehr-floersbachtal.de
SUMMARY:FW Flörsbachtal Flörsbach Übung/Unterricht JHV- Aktive im Feuerwehrhaus
DESCRIPTION:
URL:https://feuerwehr-floersbachtal.de/event/fw-floersbachtal-floersbach-uebung-unterricht-jhv-aktive-im-feuerwehrhaus/
CATEGORIES:Wehr Flörsbach
END:VEVENT
BEGIN:VEVENT
DTSTART;TZID=Europe/Berlin:20240223T190000
DTEND;TZID=Europe/Berlin:20240223T210000
DTSTAMP:20260420T091608
CREATED:20240207T192132Z
LAST-MODIFIED:20240311T144746Z
UID:256-1708714800-1708722000@feuerwehr-floersbachtal.de
SUMMARY:FW Flörsbachtal Flörsbach Übung/Unterricht Absicherung Unfallstelle
DESCRIPTION:
URL:https://feuerwehr-floersbachtal.de/event/fw-floersbachtal-floersbach-uebung-unterricht-absicherung-unfallstelle/
CATEGORIES:Wehr Flörsbach
END:VEVENT
BEGIN:VEVENT
DTSTART;TZID=Europe/Berlin:20240224T190000
DTEND;TZID=Europe/Berlin:20240224T210000
DTSTAMP:20260420T091608
CREATED:20240207T192132Z
LAST-MODIFIED:20240311T144746Z
UID:255-1708801200-1708808400@feuerwehr-floersbachtal.de
SUMMARY:FW Flörsbachtal Flörsbach Übung/Unterricht Hanau Eis/Wasser Rettung
DESCRIPTION:
URL:https://feuerwehr-floersbachtal.de/event/fw-floersbachtal-floersbach-uebung-unterricht-hanau-eis-wasser-rettung/
CATEGORIES:Wehr Flörsbach
END:VEVENT
END:VCALENDAR