BEGIN:VCALENDAR
VERSION:2.0
PRODID:-//Freiwillige Feuerwehr Flörsbachtal - ECPv6.15.14//NONSGML v1.0//EN
CALSCALE:GREGORIAN
METHOD:PUBLISH
X-WR-CALNAME:Freiwillige Feuerwehr Flörsbachtal
X-ORIGINAL-URL:https://feuerwehr-floersbachtal.de
X-WR-CALDESC:Veranstaltungen für Freiwillige Feuerwehr Flörsbachtal
REFRESH-INTERVAL;VALUE=DURATION:PT1H
X-Robots-Tag:noindex
X-PUBLISHED-TTL:PT1H
BEGIN:VTIMEZONE
TZID:Europe/Berlin
BEGIN:DAYLIGHT
TZOFFSETFROM:+0100
TZOFFSETTO:+0200
TZNAME:CEST
DTSTART:20230326T010000
END:DAYLIGHT
BEGIN:STANDARD
TZOFFSETFROM:+0200
TZOFFSETTO:+0100
TZNAME:CET
DTSTART:20231029T010000
END:STANDARD
BEGIN:DAYLIGHT
TZOFFSETFROM:+0100
TZOFFSETTO:+0200
TZNAME:CEST
DTSTART:20240331T010000
END:DAYLIGHT
BEGIN:STANDARD
TZOFFSETFROM:+0200
TZOFFSETTO:+0100
TZNAME:CET
DTSTART:20241027T010000
END:STANDARD
BEGIN:DAYLIGHT
TZOFFSETFROM:+0100
TZOFFSETTO:+0200
TZNAME:CEST
DTSTART:20250330T010000
END:DAYLIGHT
BEGIN:STANDARD
TZOFFSETFROM:+0200
TZOFFSETTO:+0100
TZNAME:CET
DTSTART:20251026T010000
END:STANDARD
END:VTIMEZONE
BEGIN:VEVENT
DTSTART;TZID=Europe/Berlin:20241230T140000
DTEND;TZID=Europe/Berlin:20241230T170000
DTSTAMP:20260421T105335
CREATED:20240827T120501Z
LAST-MODIFIED:20240827T120501Z
UID:585-1735567200-1735578000@feuerwehr-floersbachtal.de
SUMMARY:Wehr Kempfenbrunn-Mosborn Aufbau Feuerwurst
DESCRIPTION:
URL:https://feuerwehr-floersbachtal.de/event/wehr-kempfenbrunn-mosborn-aufbau-feuerwurst/
LOCATION:Feuerwehrhaus Kempfenbrunn\, Grundweg 9\, Flörsbachtal\, Hessen\, 63639\, Deutschland
CATEGORIES:Feuerwehr Flörsbachtal,Wehr Kempfenbrunn-Mosborn
END:VEVENT
BEGIN:VEVENT
DTSTART;TZID=Europe/Berlin:20241230T160000
DTEND;TZID=Europe/Berlin:20241230T230000
DTSTAMP:20260421T105335
CREATED:20240628T122006Z
LAST-MODIFIED:20240628T122006Z
UID:495-1735574400-1735599600@feuerwehr-floersbachtal.de
SUMMARY:Wehr Flörsbach Gerätewartung + Feuerwurst Kempfenbrunn
DESCRIPTION:
URL:https://feuerwehr-floersbachtal.de/event/wehr-floersbach-geraetewartung-feuerwurst-kempfenbrunn/
LOCATION:Feuerwehrhaus Flörsbach\, Orber Straße 39B\, Flörsbachtal\, Hessen\, 63639\, Deutschland
CATEGORIES:Feuerwehr Flörsbachtal,Wehr Flörsbach
END:VEVENT
BEGIN:VEVENT
DTSTART;TZID=Europe/Berlin:20241230T193000
DTEND;TZID=Europe/Berlin:20241230T210000
DTSTAMP:20260421T105335
CREATED:20240628T120230Z
LAST-MODIFIED:20240628T120230Z
UID:462-1735587000-1735592400@feuerwehr-floersbachtal.de
SUMMARY:Wehr Lohrhaupten Geräteprüfung
DESCRIPTION:
URL:https://feuerwehr-floersbachtal.de/event/wehr-lohrhaupten-geraetepruefung-2/
LOCATION:Feuerwehrhaus Lohrhaupten\, Hauptstraße 14\, Flörsbachtal\, Hessen\, 63639\, Deutschland
CATEGORIES:Feuerwehr Flörsbachtal,Wehr Lohrhaupten
END:VEVENT
END:VCALENDAR